BEGIN:VCALENDAR
VERSION:2.0
PRODID:icalendar-ruby
CALSCALE:GREGORIAN
METHOD:PUBLISH
BEGIN:VEVENT
DTSTAMP:20260421T122408Z
UID:ea71f530-f05f-4a72-96e6-39f09ffce775
DTSTART:20260516T120000
DTEND:20260516T180000
DESCRIPTION:<h2><strong style="color: rgb(0\, 1\, 117)\;">American Express 
 Returns to the Nedbank International Polo</strong></h2><p><span style="col
 or: rgb(0\, 1\, 117)\;">American Express proudly returns to the iconic Ned
 bank International Polo for another unforgettable year.</span></p><p><span
  style="color: rgb(0\, 1\, 117)\;">Join us on Saturday\, 16 May as South A
 frica faces the United States of America in a spectacular showcase of elit
 e polo\, set against the iconic backdrop of the Inanda Club.</span></p><p>
 <span style="color: rgb(0\, 1\, 117)\;">From refined luxury to relaxed pic
 nic style\, the Amex experience offers something for every guest.</span></
 p><h1><br></h1><h1><strong style="color: rgb(0\, 1\, 117)\;">AMEX BRING YO
 UR OWN PICNIC</strong></h1><p><strong style="color: rgb(0\, 1\, 117)\;">12
 :00 – Sunset</strong></p><p><strong style="color: rgb(0\, 1\, 117)\;">R2
 80 per person</strong></p><p><span style="color: rgb(0\, 1\, 117)\;">Creat
 e the perfect polo day your way.</span></p><p><span style="color: rgb(0\, 
 1\, 117)\;">Bring your picnic blanket or chair and your own picnic basket\
 , or elevate the experience with a Gemelli-curated picnic basket\, and set
 tle in for a relaxed yet thrilling match-day experience on the East Bank.<
 /span></p><p><span style="color: rgb(0\, 1\, 117)\;">Enjoy a complimentary
  welcome drink on arrival and soak up the excitement of international polo
  in an open-air setting.</span></p><p><strong style="color: rgb(0\, 1\, 11
 7)\;">Your ticket includes:</strong></p><ul><li><span style="color: rgb(0\
 , 1\, 117)\;">Access to the Nedbank International Polo</span></li><li><spa
 n style="color: rgb(0\, 1\, 117)\;">Complimentary welcome drink</span></li
 ><li><span style="color: rgb(0\, 1\, 117)\;">East Bank picnic access</span
 ></li><li><span style="color: rgb(0\, 1\, 117)\;">Access to cash bar facil
 ities</span></li></ul><p><br></p><p><em style="color: rgb(0\, 1\, 117)\;">
 No external beverages permitted.</em></p><p><em style="color: rgb(0\, 1\, 
 117)\;">Limited availability. Open to all ages. Children under 12 enter fr
 ee.</em></p><p><br></p><h1><strong style="color: rgb(0\, 1\, 117)\;">AMEX 
 CAFÉ</strong></h1><p><strong style="color: rgb(0\, 1\, 117)\;">12:00 – 
 22:00</strong></p><p><strong style="color: rgb(0\, 1\, 117)\;">R6 325 per 
 person</strong></p><p><span style="color: rgb(0\, 1\, 117)\;">Step into th
 e art of polo hospitality\, perfected at the iconic Amex Café.</span></p>
 <p><span style="color: rgb(0\, 1\, 117)\;">Positioned on the East Bank wit
 h prime viewing\, this exclusive experience combines exceptional cuisine\,
  seamless service\, and vibrant entertainment — ensuring the atmosphere 
 continues long after the final chukka.</span></p><p><span style="color: rg
 b(0\, 1\, 117)\;">Indulge in a curated menu by Gemelli\, enjoy dedicated b
 utler service\, and toast the day with a complimentary bar on select brand
 s.</span></p><p><span style="color: rgb(0\, 1\, 117)\;">Reserved lounges f
 or groups of 10 or more available on request.</span></p><p><strong style="
 color: rgb(0\, 1\, 117)\;">Your ticket includes:</strong></p><ul><li><span
  style="color: rgb(0\, 1\, 117)\;">Access to the Nedbank International Pol
 o</span></li><li><span style="color: rgb(0\, 1\, 117)\;">Prime East Bank p
 olo viewing</span></li><li><span style="color: rgb(0\, 1\, 117)\;">Gourmet
  menu by Gemelli</span></li><li><span style="color: rgb(0\, 1\, 117)\;">Co
 mplimentary bar on select brands </span></li><li><span style="color: rgb(0
 \, 1\, 117)\;">Live entertainment</span></li></ul><p><br></p><p><em style=
 "color: rgb(0\, 1\, 117)\;">Limited availability. Strictly no under 18s.</
 em></p><p><span style="color: rgb(0\, 1\, 117)\;">For reserved lounge rese
 rvations\, contact Bianca at </span><a href="mailto:bianca@equuscollection
 .com" target="_blank" style="color: rgb(0\, 1\, 117)\;">bianca@equuscollec
 tion.com</a></p><p><br></p><p><br></p>
LOCATION:Sandton\, Johannesburg\, Gauteng\, 2196
SUMMARY:American Express® at the 2026 Nedbank International Polo
URL;VALUE=URI:https://equus.howler.co.za/amex-nedbank-polo-2026
END:VEVENT
END:VCALENDAR
